BEGIN:VCALENDAR
VERSION:2.0
PRODID:-//North Port Music &amp; Bird’s Eye Studio - ECPv6.15.20//NONSGML v1.0//EN
CALSCALE:GREGORIAN
METHOD:PUBLISH
X-ORIGINAL-URL:https://northportmusic.com
X-WR-CALDESC:Events for North Port Music &amp; Bird’s Eye Studio
REFRESH-INTERVAL;VALUE=DURATION:PT1H
X-Robots-Tag:noindex
X-PUBLISHED-TTL:PT1H
BEGIN:VTIMEZONE
TZID:America/New_York
BEGIN:DAYLIGHT
TZOFFSETFROM:-0500
TZOFFSETTO:-0400
TZNAME:EDT
DTSTART:20210314T070000
END:DAYLIGHT
BEGIN:STANDARD
TZOFFSETFROM:-0400
TZOFFSETTO:-0500
TZNAME:EST
DTSTART:20211107T060000
END:STANDARD
BEGIN:DAYLIGHT
TZOFFSETFROM:-0500
TZOFFSETTO:-0400
TZNAME:EDT
DTSTART:20220313T070000
END:DAYLIGHT
BEGIN:STANDARD
TZOFFSETFROM:-0400
TZOFFSETTO:-0500
TZNAME:EST
DTSTART:20221106T060000
END:STANDARD
BEGIN:DAYLIGHT
TZOFFSETFROM:-0500
TZOFFSETTO:-0400
TZNAME:EDT
DTSTART:20230312T070000
END:DAYLIGHT
BEGIN:STANDARD
TZOFFSETFROM:-0400
TZOFFSETTO:-0500
TZNAME:EST
DTSTART:20231105T060000
END:STANDARD
END:VTIMEZONE
BEGIN:VTIMEZONE
TZID:UTC
BEGIN:STANDARD
TZOFFSETFROM:+0000
TZOFFSETTO:+0000
TZNAME:UTC
DTSTART:20210101T000000
END:STANDARD
END:VTIMEZONE
BEGIN:VEVENT
DTSTART;TZID=America/New_York:20220115T120000
DTEND;TZID=America/New_York:20220115T130000
DTSTAMP:20260423T163849
CREATED:20220113T162705Z
LAST-MODIFIED:20220113T162926Z
UID:360-1642248000-1642251600@northportmusic.com
SUMMARY:Joe Sardo: Performance and Book Signing
DESCRIPTION:
URL:https://northportmusic.com/event/joe-sardo-performance-and-book-signing/
LOCATION:North Port Music\, 14860 Tamiami Trail 2nd Floor\, North Port\, 34287\, United States
CATEGORIES:North Port Music,The Bird's Eye
END:VEVENT
BEGIN:VEVENT
DTSTART;TZID=America/New_York:20220115T110000
DTEND;TZID=America/New_York:20220115T120000
DTSTAMP:20260423T163849
CREATED:20220113T162602Z
LAST-MODIFIED:20220113T162838Z
UID:358-1642244400-1642248000@northportmusic.com
SUMMARY:North Port High School Marching Band (Flame)
DESCRIPTION:
URL:https://northportmusic.com/event/north-port-high-school-marching-band-flame/
LOCATION:North Port Music\, 14860 Tamiami Trail 2nd Floor\, North Port\, 34287\, United States
CATEGORIES:North Port Music,The Bird's Eye
END:VEVENT
BEGIN:VEVENT
DTSTART;TZID=America/New_York:20220114T183000
DTEND;TZID=America/New_York:20220114T193000
DTSTAMP:20260423T163849
CREATED:20220113T162420Z
LAST-MODIFIED:20220113T162455Z
UID:356-1642185000-1642188600@northportmusic.com
SUMMARY:Free Ukulele Class (in The Bird's Eye)—Reservations recommended)
DESCRIPTION:Call For Reservations (941) 429-2444
URL:https://northportmusic.com/event/free-ukulele-class-in-the-birds-eye-reservations-recommended/
LOCATION:North Port Music\, 14860 Tamiami Trail 2nd Floor\, North Port\, 34287\, United States
CATEGORIES:North Port Music,The Bird's Eye
END:VEVENT
BEGIN:VEVENT
DTSTART;TZID=America/New_York:20220114T181000
DTEND;TZID=America/New_York:20220114T183000
DTSTAMP:20260423T163849
CREATED:20220113T160950Z
LAST-MODIFIED:20220113T162904Z
UID:350-1642183800-1642185000@northportmusic.com
SUMMARY:Rick & Lance: Guitar\, Harmonica\, and Vocals
DESCRIPTION:
URL:https://northportmusic.com/event/rick-lance-guitar-harmonica-and-vocals/
LOCATION:North Port Music\, 14860 Tamiami Trail 2nd Floor\, North Port\, 34287\, United States
CATEGORIES:North Port Music,The Bird's Eye
END:VEVENT
BEGIN:VEVENT
DTSTART;TZID=America/New_York:20220114T180000
DTEND;TZID=America/New_York:20220114T181000
DTSTAMP:20260423T163849
CREATED:20220113T160903Z
LAST-MODIFIED:20220113T161253Z
UID:348-1642183200-1642183800@northportmusic.com
SUMMARY:Kim's Student: Daniela Ortiz
DESCRIPTION:
URL:https://northportmusic.com/event/kims-student-daniela-ortiz/
LOCATION:North Port Music\, 14860 Tamiami Trail 2nd Floor\, North Port\, 34287\, United States
CATEGORIES:North Port Music,The Bird's Eye
END:VEVENT
BEGIN:VEVENT
DTSTART;TZID=America/New_York:20220114T170000
DTEND;TZID=America/New_York:20220114T190000
DTSTAMP:20260423T163849
CREATED:20220113T160739Z
LAST-MODIFIED:20220113T161951Z
UID:344-1642179600-1642186800@northportmusic.com
SUMMARY:Wine Tasting
DESCRIPTION:
URL:https://northportmusic.com/event/wine-tasting/
LOCATION:North Port Music\, 14860 Tamiami Trail 2nd Floor\, North Port\, 34287\, United States
CATEGORIES:North Port Music,The Bird's Eye
END:VEVENT
BEGIN:VEVENT
DTSTART;TZID=America/New_York:20220114T170000
DTEND;TZID=America/New_York:20220114T180000
DTSTAMP:20260423T163849
CREATED:20220113T160817Z
LAST-MODIFIED:20220113T161448Z
UID:346-1642179600-1642183200@northportmusic.com
SUMMARY:North Port String Trio
DESCRIPTION:
URL:https://northportmusic.com/event/north-port-string-trio/
LOCATION:North Port Music\, 14860 Tamiami Trail 2nd Floor\, North Port\, 34287\, United States
CATEGORIES:North Port Music,The Bird's Eye
END:VEVENT
BEGIN:VEVENT
DTSTART;TZID=UTC:20220114T160000
DTEND;TZID=UTC:20220114T170000
DTSTAMP:20260423T163849
CREATED:20220113T160712Z
LAST-MODIFIED:20220113T161937Z
UID:342-1642176000-1642179600@northportmusic.com
SUMMARY:Jeff Taylor: Solo Original Music
DESCRIPTION:
URL:https://northportmusic.com/event/jeff-taylor-solo-original-music/
LOCATION:North Port Music\, 14860 Tamiami Trail 2nd Floor\, North Port\, 34287\, United States
CATEGORIES:North Port Music,The Bird's Eye
END:VEVENT
BEGIN:VEVENT
DTSTART;TZID=America/New_York:20220114T130000
DTEND;TZID=America/New_York:20220114T140000
DTSTAMP:20260423T163849
CREATED:20220113T160636Z
LAST-MODIFIED:20220113T162007Z
UID:340-1642165200-1642168800@northportmusic.com
SUMMARY:Debbie Dale: Native Flute
DESCRIPTION:
URL:https://northportmusic.com/event/debbie-dale-native-flute/
LOCATION:North Port Music\, 14860 Tamiami Trail 2nd Floor\, North Port\, 34287\, United States
CATEGORIES:North Port Music,The Bird's Eye
END:VEVENT
BEGIN:VEVENT
DTSTART;TZID=America/New_York:20220114T110000
DTEND;TZID=America/New_York:20220114T130000
DTSTAMP:20260423T163849
CREATED:20220113T155925Z
LAST-MODIFIED:20220113T200153Z
UID:335-1642158000-1642165200@northportmusic.com
SUMMARY:Ribbon Cutting by North Port Area Chamber of Commerce with a Performance by Sarah & Steve
DESCRIPTION:
URL:https://northportmusic.com/event/ribbon-cutting-by-north-port-area-chamber-of-commerce-with-a-performance-by-sarah-steve/
LOCATION:North Port Music\, 14860 Tamiami Trail 2nd Floor\, North Port\, 34287\, United States
CATEGORIES:North Port Music,The Bird's Eye
END:VEVENT
END:VCALENDAR